BEGIN:VCALENDAR
VERSION:2.0
PRODID:-//www.ketchikanarts.org//NONSGML kigkonsult.se iCalcreator 2.30.10/
 /
CALSCALE:GREGORIAN
METHOD:PUBLISH
UID:990bcc7d-b75d-4aa4-9b74-9aec5151ba8a
X-WR-CALDESC:An easygoing place to learn and practice east coast swing danc
 e.4 week series includes\nSwing 101 + Three weeks of Swing 3\n$30\nDoors o
 pen 5:45pm for check-in and warm-up practice.\n6:00 - 7:00 pm  Class\nfoll
 owed by open dancing practica or a beverage until 7:30
X-WR-RELCALID:b1ee4c5e18183b9c18832040375e2b9e
X-WR-TIMEZONE:America/Anchorage
BEGIN:VTIMEZONE
TZID:America/Anchorage
BEGIN:STANDARD
TZNAME:AKST
DTSTART:20211107T020000
TZOFFSETFROM:-0800
TZOFFSETTO:-0900
RDATE:20221106T020000
RDATE:20231105T020000
END:STANDARD
BEGIN:DAYLIGHT
TZNAME:AKDT
DTSTART:20220313T020000
TZOFFSETFROM:-0900
TZOFFSETTO:-0800
RDATE:20230312T020000
END:DAYLIGHT
END:VTIMEZONE
BEGIN:VEVENT
UID:7a7c3e56-114e-48c5-9c73-4dbb25356e8a
DTSTAMP:20260420T075016Z
DESCRIPTION:An easygoing place to learn and practice east coast swing dance
 .4 week series includes\nSwing 101 + Three weeks of Swing 3\n$30\nDoors op
 en 5:45pm for check-in and warm-up practice.\n6:00 - 7:00 pm  Class\nfollo
 wed by open dancing practica or a beverage until 7:30
DTSTART;TZID=America/Anchorage:20220718T173000
DTEND;TZID=America/Anchorage:20220718T193000
LOCATION:Creek Street Cabaret
SUMMARY:BOOMbal Dance Hall- Swing Classes
END:VEVENT
END:VCALENDAR
