BEGIN:VCALENDAR
VERSION:2.0
PRODID:-//www.ketchikanarts.org//NONSGML kigkonsult.se iCalcreator 2.30.10/
 /
CALSCALE:GREGORIAN
METHOD:PUBLISH
UID:e938bb63-9d71-47d6-abcf-8b0df78eed48
X-WR-CALDESC:
X-WR-RELCALID:ad7f6c7b2055420c8e642aefa0553801
X-WR-TIMEZONE:America/Anchorage
BEGIN:VTIMEZONE
TZID:America/Anchorage
BEGIN:STANDARD
TZNAME:AKST
DTSTART:20211107T020000
TZOFFSETFROM:-0800
TZOFFSETTO:-0900
RDATE:20221106T020000
RDATE:20231105T020000
END:STANDARD
BEGIN:DAYLIGHT
TZNAME:AKDT
DTSTART:20220313T020000
TZOFFSETFROM:-0900
TZOFFSETTO:-0800
RDATE:20230312T020000
END:DAYLIGHT
END:VTIMEZONE
BEGIN:VEVENT
UID:2155ddad-c63d-4430-8c88-188c29f50c7c
DTSTAMP:20260420T075538Z
DESCRIPTION:
DTSTART;TZID=America/Anchorage:20220716T080000
DTEND;TZID=America/Anchorage:20220716T170000
LOCATION:Ketchikan Historical Museum
SUMMARY:The Tongass Historical Museum
END:VEVENT
END:VCALENDAR
