BEGIN:VCALENDAR
VERSION:2.0
PRODID:-//www.ketchikanarts.org//NONSGML kigkonsult.se iCalcreator 2.30.10/
 /
CALSCALE:GREGORIAN
METHOD:PUBLISH
UID:96df0e0c-9835-4b5c-a347-ef4bd67eac66
X-WR-CALDESC:The Fish Pirate's Daughter is in its 56th year!  First City Pl
 ayers is partnering with  Cape Fox Lodge to bring you dinner\, & a show ex
 perience!  At George Inlet Cannery. Tickets are available exclusively thro
 ugh First City Players 907 225-4792.\nA VERY special thank you to Legacy R
 eal Estate Firm for helping to keep *this* particular legacy alive!Buffet 
 Starts at 6:30 pm and Show starts at 7:30 PM\n$85 per person
X-WR-RELCALID:a190c68dd402930c73e6f33ff3ec921c
X-WR-TIMEZONE:America/Anchorage
BEGIN:VTIMEZONE
TZID:America/Anchorage
BEGIN:STANDARD
TZNAME:AKST
DTSTART:20211107T020000
TZOFFSETFROM:-0800
TZOFFSETTO:-0900
RDATE:20221106T020000
RDATE:20231105T020000
END:STANDARD
BEGIN:DAYLIGHT
TZNAME:AKDT
DTSTART:20220313T020000
TZOFFSETFROM:-0900
TZOFFSETTO:-0800
RDATE:20230312T020000
END:DAYLIGHT
END:VTIMEZONE
BEGIN:VEVENT
UID:0ed88ea5-a943-43c4-bacc-e003223db4ed
DTSTAMP:20260420T075350Z
DESCRIPTION:The Fish Pirate's Daughter is in its 56th year!  First City Pla
 yers is partnering with  Cape Fox Lodge to bring you dinner\, & a show exp
 erience!  At George Inlet Cannery. Tickets are available exclusively throu
 gh First City Players 907 225-4792.\nA VERY special thank you to Legacy Re
 al Estate Firm for helping to keep *this* particular legacy alive!Buffet S
 tarts at 6:30 pm and Show starts at 7:30 PM\n$85 per person
DTSTART;TZID=America/Anchorage:20220715T183000
DTEND;TZID=America/Anchorage:20220715T220000
LOCATION:Allen Marine Tours
SUMMARY:The Fish Pirate's Daughter Dinner Theater Experience
END:VEVENT
END:VCALENDAR
