BEGIN:VCALENDAR
VERSION:2.0
PRODID:-//www.ketchikanarts.org//NONSGML kigkonsult.se iCalcreator 2.30.10/
 /
CALSCALE:GREGORIAN
METHOD:PUBLISH
UID:b054f211-bea3-4215-b20c-f516a22033e3
X-WR-CALDESC:Open Call to Artists  for the Prince of Wales Island Wide Arts
  Extravaganza & Exhibit Event \nSaturday\, July 23rd 2022 at the Thorne Ba
 y School Gym\n\nSubmit Exhibit registration by July15th 2022.\n\nWe invite
  YOU to be a part of the 3rd exhibit July 23rd 2022. It is open to artist 
 on Prince of Wales. Due to space restrictions we must limit it to 100 arti
 sts. The Art Extravaganza will take all necessary steps for this large\, i
 ndoor event to mitigate the risks to artists and audience members of the C
 ovid-19 disease\, potentially including requiring mask wearing\, limiting 
 capacity\, traffic flow patterns\, and spacing.\n\nELIGIBILITY: Submission
 s must be original\, creative\, one of a kind artwork and made by artist o
 n Prince of Wales island. All artwork must be designed and executed by the
  exhibiting artist\; collaborative pieces may be submitted. Art will requi
 re artist signature\, and would be returned.\n\nENTRY FEES: $25.00 PAYABLE
 : KAAHC/POW Arts Extravaganza & Exhibit\nKetchikan Area Arts and Humanitie
 s Council\n330 Main Street\nKetchikan\, AK 99901\n\nENTRY DEADLINE: All ar
 t must be received to Gretchen Klein by Friday\, July 22nd 2022 at Thorne 
 Bay School District Gym Art Exhibit location.\n\nNUMBER OF ENTRIES: Artist
 s may submit up to two entries. Bring businesses cards to pass out.\n\nSAL
 ES: Art may be priced to sell\, artist is responsible for transaction with
  seller as well as organizing transport or pick up after 5:00 pm on day of
  event. It is not recommended to release artwork to buyer without payment.
 \n\nOPENING RECEPTION: Artists are encouraged to attend the reception 1PM-
 4PM Saturday\, July 23rd 2022 at the Thorne Bay School Gym.\n\nARTWORK RET
 URNS AND PICK-UP: Local artists can pick up their work starting at 5:00pm 
 on Saturday\, July 23rd 2022.\n\nINSURANCE: Artists are responsible for in
 suring their work during transit to and from the Art Show. Your work will 
 be treated with respect and care. The KAAHC is not responsible for damage 
 due to circumstances beyond reasonable control.\n\nPlease see link below f
 or a download-able entry form.\n
X-WR-RELCALID:82fe199b2a89ac0f2b373ce6cdb95446
X-WR-TIMEZONE:America/Anchorage
BEGIN:VTIMEZONE
TZID:America/Anchorage
BEGIN:STANDARD
TZNAME:AKST
DTSTART:20211107T020000
TZOFFSETFROM:-0800
TZOFFSETTO:-0900
RDATE:20221106T020000
RDATE:20231105T020000
END:STANDARD
BEGIN:DAYLIGHT
TZNAME:AKDT
DTSTART:20220313T020000
TZOFFSETFROM:-0900
TZOFFSETTO:-0800
RDATE:20230312T020000
END:DAYLIGHT
END:VTIMEZONE
BEGIN:VEVENT
UID:58543703-1420-493b-a7b6-28b69043fde9
DTSTAMP:20260420T075813Z
DESCRIPTION:Open Call to Artists  for the Prince of Wales Island Wide Arts 
 Extravaganza & Exhibit Event \nSaturday\, July 23rd 2022 at the Thorne Bay
  School Gym\n\nSubmit Exhibit registration by July15th 2022.\n\nWe invite 
 YOU to be a part of the 3rd exhibit July 23rd 2022. It is open to artist o
 n Prince of Wales. Due to space restrictions we must limit it to 100 artis
 ts. The Art Extravaganza will take all necessary steps for this large\, in
 door event to mitigate the risks to artists and audience members of the Co
 vid-19 disease\, potentially including requiring mask wearing\, limiting c
 apacity\, traffic flow patterns\, and spacing.\n\nELIGIBILITY: Submissions
  must be original\, creative\, one of a kind artwork and made by artist on
  Prince of Wales island. All artwork must be designed and executed by the 
 exhibiting artist\; collaborative pieces may be submitted. Art will requir
 e artist signature\, and would be returned.\n\nENTRY FEES: $25.00 PAYABLE:
  KAAHC/POW Arts Extravaganza & Exhibit\nKetchikan Area Arts and Humanities
  Council\n330 Main Street\nKetchikan\, AK 99901\n\nENTRY DEADLINE: All art
  must be received to Gretchen Klein by Friday\, July 22nd 2022 at Thorne B
 ay School District Gym Art Exhibit location.\n\nNUMBER OF ENTRIES: Artists
  may submit up to two entries. Bring businesses cards to pass out.\n\nSALE
 S: Art may be priced to sell\, artist is responsible for transaction with 
 seller as well as organizing transport or pick up after 5:00 pm on day of 
 event. It is not recommended to release artwork to buyer without payment.
 \n\nOPENING RECEPTION: Artists are encouraged to attend the reception 1PM-
 4PM Saturday\, July 23rd 2022 at the Thorne Bay School Gym.\n\nARTWORK RET
 URNS AND PICK-UP: Local artists can pick up their work starting at 5:00pm 
 on Saturday\, July 23rd 2022.\n\nINSURANCE: Artists are responsible for in
 suring their work during transit to and from the Art Show. Your work will 
 be treated with respect and care. The KAAHC is not responsible for damage 
 due to circumstances beyond reasonable control.\n\nPlease see link below f
 or a download-able entry form.\n
DTSTART;TZID=America/Anchorage:20220715T090000
DTEND;TZID=America/Anchorage:20220715T170000
LOCATION:Thorne Bay\, Alaska
SUMMARY:Open Call - Prince of Wales Island Wide Arts Extravaganza Exhibt en
 try form
END:VEVENT
END:VCALENDAR
