BEGIN:VCALENDAR
VERSION:2.0
PRODID:-//www.ketchikanarts.org//NONSGML kigkonsult.se iCalcreator 2.30.10/
 /
CALSCALE:GREGORIAN
METHOD:PUBLISH
UID:b3bbc2be-40c3-40d2-9720-00df06b80cf1
X-WR-CALDESC:Lallette Kistler
X-WR-RELCALID:6006641a9d9bfc8d8a8c710066b8c9f8
X-WR-TIMEZONE:America/Anchorage
BEGIN:VTIMEZONE
TZID:America/Anchorage
BEGIN:STANDARD
TZNAME:AKST
DTSTART:20211107T020000
TZOFFSETFROM:-0800
TZOFFSETTO:-0900
RDATE:20221106T020000
RDATE:20231105T020000
END:STANDARD
BEGIN:DAYLIGHT
TZNAME:AKDT
DTSTART:20220313T020000
TZOFFSETFROM:-0900
TZOFFSETTO:-0800
RDATE:20230312T020000
END:DAYLIGHT
END:VTIMEZONE
BEGIN:VEVENT
UID:6dfa8311-5790-4a20-980d-4e8ad623042f
DTSTAMP:20260420T075126Z
DESCRIPTION:Lallette Kistler
DTSTART;TZID=America/Anchorage:20220715T120000
DTEND;TZID=America/Anchorage:20220715T130000
LOCATION:
SUMMARY:Music on the Dock
END:VEVENT
END:VCALENDAR
