BEGIN:VCALENDAR
VERSION:2.0
PRODID:-//www.ketchikanarts.org//NONSGML kigkonsult.se iCalcreator 2.30.10/
 /
CALSCALE:GREGORIAN
METHOD:PUBLISH
UID:4fff8f59-b79c-4f2b-9e56-56e17dec3323
X-WR-CALDESC:What is the Gigglefeet Dance Festival?\n\nThe Gigglefeet Dance
  Festival is a community celebration of dance\n\nco-sponsored by the Ketch
 ikan Theatre Ballet\, First City Players\, and Ketchikan Area Arts & Human
 ities Council. \n\nThe mission of the Festival is to:\n\nStrengthen the da
 nce community.\nProvide performance opportunities for both emerging and es
 tablished dancers\, choreographers\, and technical theater personnel in th
 e greater Ketchikan area.\nProvide a venue for the works of adult dancers 
 and choreographers.\nProvide a supportive environment for a diversity of d
 ance forms\, including works that are provocative and challenging.\nEncour
 age participation and appreciation of dance\, for artists and audiences al
 ike\, by presenting a broad variety of dance forms.\nThe Gigglefeet Dance 
 Festival usually takes place on the Friday and Sunday surrounding the Blue
 berry Arts Festival\, which always takes place the first weekend in August
 .\n\n
X-WR-RELCALID:6eaf422ae7e9439cad4cb514bc060e4a
X-WR-TIMEZONE:America/Anchorage
BEGIN:VTIMEZONE
TZID:America/Anchorage
BEGIN:STANDARD
TZNAME:AKST
DTSTART:20211107T020000
TZOFFSETFROM:-0800
TZOFFSETTO:-0900
RDATE:20221106T020000
RDATE:20231105T020000
END:STANDARD
BEGIN:DAYLIGHT
TZNAME:AKDT
DTSTART:20220313T020000
TZOFFSETFROM:-0900
TZOFFSETTO:-0800
RDATE:20230312T020000
END:DAYLIGHT
END:VTIMEZONE
BEGIN:VEVENT
UID:b377a13e-405f-43c2-bfcf-371d521251e8
DTSTAMP:20260420T074945Z
DESCRIPTION:What is the Gigglefeet Dance Festival?\n\nThe Gigglefeet Dance 
 Festival is a community celebration of dance\n\nco-sponsored by the Ketchi
 kan Theatre Ballet\, First City Players\, and Ketchikan Area Arts & Humani
 ties Council. \n\nThe mission of the Festival is to:\n\nStrengthen the dan
 ce community.\nProvide performance opportunities for both emerging and est
 ablished dancers\, choreographers\, and technical theater personnel in the
  greater Ketchikan area.\nProvide a venue for the works of adult dancers a
 nd choreographers.\nProvide a supportive environment for a diversity of da
 nce forms\, including works that are provocative and challenging.\nEncoura
 ge participation and appreciation of dance\, for artists and audiences ali
 ke\, by presenting a broad variety of dance forms.\nThe Gigglefeet Dance F
 estival usually takes place on the Friday and Sunday surrounding the Blueb
 erry Arts Festival\, which always takes place the first weekend in August.
 \n\n
DTSTART;TZID=America/Anchorage:20220715T000000
DTEND;TZID=America/Anchorage:20220715T235900
LOCATION:
SUMMARY:Gigglefeet Application Due
END:VEVENT
END:VCALENDAR
