BEGIN:VCALENDAR
VERSION:2.0
PRODID:-//www.ketchikanarts.org//NONSGML kigkonsult.se iCalcreator 2.30.10/
 /
CALSCALE:GREGORIAN
METHOD:PUBLISH
UID:dce8dd5b-419d-49a2-ab1e-b3400f89f508
X-WR-CALDESC:Meet the Ketchikan Manager Candidates!\nFriday from 6:30pm-8pm
 \nCommunity questions answered\, open session for general questions time p
 ermitting. Refreshments will be provided!
X-WR-RELCALID:8df7f76fd287bf237116cffb4ba551e7
X-WR-TIMEZONE:America/Anchorage
BEGIN:VTIMEZONE
TZID:America/Anchorage
BEGIN:STANDARD
TZNAME:AKST
DTSTART:20211107T020000
TZOFFSETFROM:-0800
TZOFFSETTO:-0900
RDATE:20221106T020000
RDATE:20231105T020000
END:STANDARD
BEGIN:DAYLIGHT
TZNAME:AKDT
DTSTART:20220313T020000
TZOFFSETFROM:-0900
TZOFFSETTO:-0800
RDATE:20230312T020000
END:DAYLIGHT
END:VTIMEZONE
BEGIN:VEVENT
UID:cb77c8a2-8e86-4014-9b45-d087e44983d6
DTSTAMP:20260420T075652Z
DESCRIPTION:Meet the Ketchikan Manager Candidates!\nFriday from 6:30pm-8pm
 \nCommunity questions answered\, open session for general questions time p
 ermitting. Refreshments will be provided!
DTSTART;TZID=America/Anchorage:20220715T183000
DTEND;TZID=America/Anchorage:20220715T200000
LOCATION:Ted Ferry Civic Center
SUMMARY:City of Ketchikan Public Forum
END:VEVENT
END:VCALENDAR
