BEGIN:VCALENDAR
VERSION:2.0
PRODID:-//www.ketchikanarts.org//NONSGML kigkonsult.se iCalcreator 2.30.10/
 /
CALSCALE:GREGORIAN
METHOD:PUBLISH
UID:34e7df96-5534-4714-965c-fe3df6b44459
X-WR-CALDESC:Austin Hays Trio
X-WR-RELCALID:0cc60889ca04ed05f28e172279abc27e
X-WR-TIMEZONE:America/Anchorage
BEGIN:VTIMEZONE
TZID:America/Anchorage
BEGIN:STANDARD
TZNAME:AKST
DTSTART:20211107T020000
TZOFFSETFROM:-0800
TZOFFSETTO:-0900
RDATE:20221106T020000
RDATE:20231105T020000
END:STANDARD
BEGIN:DAYLIGHT
TZNAME:AKDT
DTSTART:20220313T020000
TZOFFSETFROM:-0900
TZOFFSETTO:-0800
RDATE:20230312T020000
END:DAYLIGHT
END:VTIMEZONE
BEGIN:VEVENT
UID:97aa2d40-a691-4e80-a647-ba5203b56aa2
DTSTAMP:20260420T075032Z
DESCRIPTION:Austin Hays Trio
DTSTART;TZID=America/Anchorage:20220714T120000
DTEND;TZID=America/Anchorage:20220714T130000
LOCATION:
SUMMARY:Music on the Dock
END:VEVENT
END:VCALENDAR
