BEGIN:VCALENDAR
VERSION:2.0
PRODID:-//www.ketchikanarts.org//NONSGML kigkonsult.se iCalcreator 2.30.10/
 /
CALSCALE:GREGORIAN
METHOD:PUBLISH
UID:c1fb487a-a2fe-4b72-b996-b81b74a42f4a
X-WR-CALDESC:Sultry sounds of Joe Williams IV and Austin Hays\nLive music a
 t Cape Fox every other Thursday through the end of May \nFree to restauran
 t patrons
X-WR-RELCALID:5f471791f598b61164ef70411a9b28d8
X-WR-TIMEZONE:America/Anchorage
BEGIN:VTIMEZONE
TZID:America/Anchorage
BEGIN:STANDARD
TZNAME:AKST
DTSTART:20211107T020000
TZOFFSETFROM:-0800
TZOFFSETTO:-0900
RDATE:20221106T020000
RDATE:20231105T020000
END:STANDARD
BEGIN:DAYLIGHT
TZNAME:AKDT
DTSTART:20220313T020000
TZOFFSETFROM:-0900
TZOFFSETTO:-0800
RDATE:20230312T020000
END:DAYLIGHT
END:VTIMEZONE
BEGIN:VEVENT
UID:75f98174-3173-40a1-a9bd-89f44c0a803f
DTSTAMP:20260420T075516Z
DESCRIPTION:Sultry sounds of Joe Williams IV and Austin Hays\nLive music at
  Cape Fox every other Thursday through the end of May \nFree to restaurant
  patrons
DTSTART;TZID=America/Anchorage:20220714T170000
DTEND;TZID=America/Anchorage:20220714T203000
LOCATION:
SUMMARY:Joe Williams IV and Austin Hays
END:VEVENT
END:VCALENDAR
