BEGIN:VCALENDAR
VERSION:2.0
PRODID:-//www.ketchikanarts.org//NONSGML kigkonsult.se iCalcreator 2.30.10/
 /
CALSCALE:GREGORIAN
METHOD:PUBLISH
UID:f5237f68-d311-4c56-a111-c39b3c619a47
X-WR-CALDESC:
X-WR-RELCALID:721e19bf6b20ddfd78129dfd3abb3a79
X-WR-TIMEZONE:America/Anchorage
BEGIN:VTIMEZONE
TZID:America/Anchorage
BEGIN:STANDARD
TZNAME:AKST
DTSTART:20211107T020000
TZOFFSETFROM:-0800
TZOFFSETTO:-0900
RDATE:20221106T020000
RDATE:20231105T020000
END:STANDARD
BEGIN:DAYLIGHT
TZNAME:AKDT
DTSTART:20220313T020000
TZOFFSETFROM:-0900
TZOFFSETTO:-0800
RDATE:20230312T020000
END:DAYLIGHT
END:VTIMEZONE
BEGIN:VEVENT
UID:1eb0f4ed-6455-4adc-aa1f-0422ace4df9e
DTSTAMP:20260420T075712Z
DESCRIPTION:
DTSTART;TZID=America/Anchorage:20220714T080000
DTEND;TZID=America/Anchorage:20220714T170000
LOCATION:Ketchikan Historical Museum
SUMMARY:The Tongass Historical Museum
END:VEVENT
END:VCALENDAR
