BEGIN:VCALENDAR
VERSION:2.0
PRODID:-//www.ketchikanarts.org//NONSGML kigkonsult.se iCalcreator 2.30.10/
 /
CALSCALE:GREGORIAN
METHOD:PUBLISH
UID:d129709e-5088-4d24-a04d-7da8714dbb4d
X-WR-CALDESC:UAS Ketchikan welcomes you to join them on Wednesday\, July 13
 ! They will dive into respectful harvesting practices\, what can be eaten 
 from the beaches and forest\, and local resources. This event is FREE and 
 open to the public! Hope to see you there!
X-WR-RELCALID:6d3da8fcf362c8ea02c2cbc88381a52a
X-WR-TIMEZONE:America/Anchorage
BEGIN:VTIMEZONE
TZID:America/Anchorage
BEGIN:STANDARD
TZNAME:AKST
DTSTART:20211107T020000
TZOFFSETFROM:-0800
TZOFFSETTO:-0900
RDATE:20221106T020000
RDATE:20231105T020000
END:STANDARD
BEGIN:DAYLIGHT
TZNAME:AKDT
DTSTART:20220313T020000
TZOFFSETFROM:-0900
TZOFFSETTO:-0800
RDATE:20230312T020000
END:DAYLIGHT
END:VTIMEZONE
BEGIN:VEVENT
UID:d70f06c9-a5d3-4e80-9bfd-922f6b9cc440
DTSTAMP:20260420T075032Z
DESCRIPTION:UAS Ketchikan welcomes you to join them on Wednesday\, July 13!
  They will dive into respectful harvesting practices\, what can be eaten f
 rom the beaches and forest\, and local resources. This event is FREE and o
 pen to the public! Hope to see you there!
DTSTART;TZID=America/Anchorage:20220713T170000
DTEND;TZID=America/Anchorage:20220713T190000
LOCATION:600 Stedman Street\, Ketchikan\, AK 99901 US
SUMMARY:UAS Respectful Harvesting
END:VEVENT
END:VCALENDAR
