BEGIN:VCALENDAR
VERSION:2.0
PRODID:-//www.ketchikanarts.org//NONSGML kigkonsult.se iCalcreator 2.30.10/
 /
CALSCALE:GREGORIAN
METHOD:PUBLISH
UID:f65d2df4-43d7-49bc-b5a4-c26e05976a11
X-WR-CALDESC:Stories at Latitude 56 Summer SLAM with host Jack Finnegan bri
 ng you three Summer SLAM events at the Creek Street Cabaret! $3 at the doo
 r. Join us for impromptu storytelling with friends\, neighbors\, and visit
 ors! Themes are suggestions\, not requirements! \n June 14th: Water\nJuly 
 12th: Earth\nAugust 9th: Sky\nJoin us for the Elements of Summer!!! \n\n
X-WR-RELCALID:a3d0d10eb16559674cf21fd1136d0cc4
X-WR-TIMEZONE:America/Anchorage
BEGIN:VTIMEZONE
TZID:America/Anchorage
BEGIN:STANDARD
TZNAME:AKST
DTSTART:20211107T020000
TZOFFSETFROM:-0800
TZOFFSETTO:-0900
RDATE:20221106T020000
RDATE:20231105T020000
END:STANDARD
BEGIN:DAYLIGHT
TZNAME:AKDT
DTSTART:20220313T020000
TZOFFSETFROM:-0900
TZOFFSETTO:-0800
RDATE:20230312T020000
END:DAYLIGHT
END:VTIMEZONE
BEGIN:VEVENT
UID:9aa273a3-ec7e-4c3c-a1ee-990a8d8813e7
DTSTAMP:20260420T075203Z
DESCRIPTION:Stories at Latitude 56 Summer SLAM with host Jack Finnegan brin
 g you three Summer SLAM events at the Creek Street Cabaret! $3 at the door
 . Join us for impromptu storytelling with friends\, neighbors\, and visito
 rs! Themes are suggestions\, not requirements! \n June 14th: Water\nJuly 1
 2th: Earth\nAugust 9th: Sky\nJoin us for the Elements of Summer!!! \n\n
DTSTART;TZID=America/Anchorage:20220712T190000
DTEND;TZID=America/Anchorage:20220712T213000
LOCATION:Creek Street Cabaret
SUMMARY:Stories at Latitude 56* Summer SLAM!
END:VEVENT
END:VCALENDAR
