BEGIN:VCALENDAR
VERSION:2.0
PRODID:-//www.ketchikanarts.org//NONSGML kigkonsult.se iCalcreator 2.30.10/
 /
CALSCALE:GREGORIAN
METHOD:PUBLISH
UID:d4f31358-ff1c-471d-a0d2-f2a254c0f6bf
X-WR-CALDESC:Paddy's Leather Breeches
X-WR-RELCALID:e224568f8cddea0798c1f66b1d14a3d3
X-WR-TIMEZONE:America/Anchorage
BEGIN:VTIMEZONE
TZID:America/Anchorage
BEGIN:STANDARD
TZNAME:AKST
DTSTART:20211107T020000
TZOFFSETFROM:-0800
TZOFFSETTO:-0900
RDATE:20221106T020000
RDATE:20231105T020000
END:STANDARD
BEGIN:DAYLIGHT
TZNAME:AKDT
DTSTART:20220313T020000
TZOFFSETFROM:-0900
TZOFFSETTO:-0800
RDATE:20230312T020000
END:DAYLIGHT
END:VTIMEZONE
BEGIN:VEVENT
UID:e4f3102b-74c9-45a6-86b3-4e4600916742
DTSTAMP:20260420T075030Z
DESCRIPTION:Paddy's Leather Breeches
DTSTART;TZID=America/Anchorage:20220711T120000
DTEND;TZID=America/Anchorage:20220711T130000
LOCATION:
SUMMARY:Music on the Dock
END:VEVENT
END:VCALENDAR
