BEGIN:VCALENDAR
VERSION:2.0
PRODID:-//www.ketchikanarts.org//NONSGML kigkonsult.se iCalcreator 2.30.10/
 /
CALSCALE:GREGORIAN
METHOD:PUBLISH
UID:58aaf918-46f1-423b-9c1b-600d9669e858
X-WR-CALDESC:Special musical guest Taylor Vega is here all the way from Mia
 mi Florida with his saxophone! Don't miss this special opportunity to enjo
 y this Jazz ensemble at the Creek Street Cabaret\n$5 cover
X-WR-RELCALID:cff53eac94ff4a4c44ea178b0f39455f
X-WR-TIMEZONE:America/Anchorage
BEGIN:VTIMEZONE
TZID:America/Anchorage
BEGIN:STANDARD
TZNAME:AKST
DTSTART:20211107T020000
TZOFFSETFROM:-0800
TZOFFSETTO:-0900
RDATE:20221106T020000
RDATE:20231105T020000
END:STANDARD
BEGIN:DAYLIGHT
TZNAME:AKDT
DTSTART:20220313T020000
TZOFFSETFROM:-0900
TZOFFSETTO:-0800
RDATE:20230312T020000
END:DAYLIGHT
END:VTIMEZONE
BEGIN:VEVENT
UID:4f853106-d56d-4236-8a2e-9f07a96d5e29
DTSTAMP:20260420T075252Z
DESCRIPTION:Special musical guest Taylor Vega is here all the way from Miam
 i Florida with his saxophone! Don't miss this special opportunity to enjoy
  this Jazz ensemble at the Creek Street Cabaret\n$5 cover
DTSTART;TZID=America/Anchorage:20220709T200000
DTEND;TZID=America/Anchorage:20220709T220000
LOCATION:Creek Street Cabaret
SUMMARY:Austin Hays Trio with Taylor Vega
END:VEVENT
END:VCALENDAR
