BEGIN:VCALENDAR
VERSION:2.0
PRODID:-//www.ketchikanarts.org//NONSGML kigkonsult.se iCalcreator 2.30.10/
 /
CALSCALE:GREGORIAN
METHOD:PUBLISH
UID:66fef5d2-28f8-46c4-8fc8-91205346b1e8
X-WR-CALDESC:This Week Joe Williams IV and Chazz Chist Rotating live local 
 music! You won't be disappointed\, \nFree and open to restaurant and Bar p
 atrons
X-WR-RELCALID:a12bfb262bd3f8ca4b9e714a0ee19e75
X-WR-TIMEZONE:America/Anchorage
BEGIN:VTIMEZONE
TZID:America/Anchorage
BEGIN:STANDARD
TZNAME:AKST
DTSTART:20211107T020000
TZOFFSETFROM:-0800
TZOFFSETTO:-0900
RDATE:20221106T020000
RDATE:20231105T020000
END:STANDARD
BEGIN:DAYLIGHT
TZNAME:AKDT
DTSTART:20220313T020000
TZOFFSETFROM:-0900
TZOFFSETTO:-0800
RDATE:20230312T020000
END:DAYLIGHT
END:VTIMEZONE
BEGIN:VEVENT
UID:798af6f7-cb42-4fde-b9bf-f925034cd1f9
DTSTAMP:20260420T075152Z
DESCRIPTION:This Week Joe Williams IV and Chazz Chist Rotating live local m
 usic! You won't be disappointed\, \nFree and open to restaurant and Bar pa
 trons
DTSTART;TZID=America/Anchorage:20220709T180000
DTEND;TZID=America/Anchorage:20220709T200000
LOCATION:New York Cafe
SUMMARY:Rhythmic Marinade
END:VEVENT
END:VCALENDAR
