BEGIN:VCALENDAR
VERSION:2.0
PRODID:-//www.ketchikanarts.org//NONSGML kigkonsult.se iCalcreator 2.30.10/
 /
CALSCALE:GREGORIAN
METHOD:PUBLISH
UID:7c832abc-83c1-41b7-84f1-721b1c3b08a5
X-WR-CALDESC:Austin will perform Wednesday Nights through the summer \nFree
  to patrons of the Timbers Resturant
X-WR-RELCALID:d85cab28715ad88992860d90512aea19
X-WR-TIMEZONE:America/Anchorage
BEGIN:VTIMEZONE
TZID:America/Anchorage
BEGIN:STANDARD
TZNAME:AKST
DTSTART:20211107T020000
TZOFFSETFROM:-0800
TZOFFSETTO:-0900
RDATE:20221106T020000
RDATE:20231105T020000
END:STANDARD
BEGIN:DAYLIGHT
TZNAME:AKDT
DTSTART:20220313T020000
TZOFFSETFROM:-0900
TZOFFSETTO:-0800
RDATE:20230312T020000
END:DAYLIGHT
END:VTIMEZONE
BEGIN:VEVENT
UID:81c86e59-1a08-4e3b-8ea1-a54a9938acc6
DTSTAMP:20260420T075410Z
DESCRIPTION:Austin will perform Wednesday Nights through the summer \nFree 
 to patrons of the Timbers Resturant
DTSTART;TZID=America/Anchorage:20220706T180000
DTEND;TZID=America/Anchorage:20220706T200000
LOCATION:Timbers Restaurant Salmon Falls Resort
SUMMARY:Austin Hays Solo
END:VEVENT
END:VCALENDAR
