BEGIN:VCALENDAR
VERSION:2.0
PRODID:-//www.ketchikanarts.org//NONSGML kigkonsult.se iCalcreator 2.30.10/
 /
CALSCALE:GREGORIAN
METHOD:PUBLISH
UID:d3bb6462-1973-4281-bbb7-46edd9548b25
X-WR-CALDESC:Christine Mander
X-WR-RELCALID:a0a5b6b8aa3faf4eb029f6e90ac70433
X-WR-TIMEZONE:America/Anchorage
BEGIN:VTIMEZONE
TZID:America/Anchorage
BEGIN:STANDARD
TZNAME:AKST
DTSTART:20211107T020000
TZOFFSETFROM:-0800
TZOFFSETTO:-0900
RDATE:20221106T020000
RDATE:20231105T020000
END:STANDARD
BEGIN:DAYLIGHT
TZNAME:AKDT
DTSTART:20220313T020000
TZOFFSETFROM:-0900
TZOFFSETTO:-0800
RDATE:20230312T020000
END:DAYLIGHT
END:VTIMEZONE
BEGIN:VEVENT
UID:be90bf2b-218c-4e76-b555-c9df531f6e78
DTSTAMP:20260420T075031Z
DESCRIPTION:Christine Mander
DTSTART;TZID=America/Anchorage:20220705T120000
DTEND;TZID=America/Anchorage:20220705T130000
LOCATION:
SUMMARY:Music on the Dock
END:VEVENT
END:VCALENDAR
