BEGIN:VCALENDAR
VERSION:2.0
PRODID:-//www.ketchikanarts.org//NONSGML kigkonsult.se iCalcreator 2.30.10/
 /
CALSCALE:GREGORIAN
METHOD:PUBLISH
UID:178abf35-3afb-4c33-993b-8fcff9bcdbd9
X-WR-CALDESC:Alaska Coffee Pop-Up Artist Market \n12 vendors live music
X-WR-RELCALID:bc319a3bc337d82f0329094d496d7adb
X-WR-TIMEZONE:America/Anchorage
BEGIN:VTIMEZONE
TZID:America/Anchorage
BEGIN:STANDARD
TZNAME:AKST
DTSTART:20211107T020000
TZOFFSETFROM:-0800
TZOFFSETTO:-0900
RDATE:20221106T020000
RDATE:20231105T020000
END:STANDARD
BEGIN:DAYLIGHT
TZNAME:AKDT
DTSTART:20220313T020000
TZOFFSETFROM:-0900
TZOFFSETTO:-0800
RDATE:20230312T020000
END:DAYLIGHT
END:VTIMEZONE
BEGIN:VEVENT
UID:6e918df3-3645-4ef2-9071-b9f30f2ae4b1
DTSTAMP:20260420T074946Z
DESCRIPTION:Alaska Coffee Pop-Up Artist Market \n12 vendors live music
DTSTART;TZID=America/Anchorage:20220704T080000
DTEND;TZID=America/Anchorage:20220704T160000
LOCATION:
SUMMARY:Open Market
END:VEVENT
END:VCALENDAR
