BEGIN:VCALENDAR
VERSION:2.0
PRODID:-//www.ketchikanarts.org//NONSGML kigkonsult.se iCalcreator 2.30.10/
 /
CALSCALE:GREGORIAN
METHOD:PUBLISH
UID:6bcaa69a-82a5-47cd-9bdb-a62d98bec6ca
X-WR-CALDESC:Alaska Coffee Pop-Up Artist Market \n12 vendors live music
X-WR-RELCALID:2680fd80d8ff5295bc127fafe4dc49c2
X-WR-TIMEZONE:America/Anchorage
BEGIN:VTIMEZONE
TZID:America/Anchorage
BEGIN:STANDARD
TZNAME:AKST
DTSTART:20211107T020000
TZOFFSETFROM:-0800
TZOFFSETTO:-0900
RDATE:20221106T020000
RDATE:20231105T020000
END:STANDARD
BEGIN:DAYLIGHT
TZNAME:AKDT
DTSTART:20220313T020000
TZOFFSETFROM:-0900
TZOFFSETTO:-0800
RDATE:20230312T020000
END:DAYLIGHT
END:VTIMEZONE
BEGIN:VEVENT
UID:f22b3db7-ea77-4496-9543-4082f6ee62f3
DTSTAMP:20260420T074835Z
DESCRIPTION:Alaska Coffee Pop-Up Artist Market \n12 vendors live music
DTSTART;TZID=America/Anchorage:20220703T080000
DTEND;TZID=America/Anchorage:20220703T160000
LOCATION:
SUMMARY:Open Market
END:VEVENT
END:VCALENDAR
