BEGIN:VCALENDAR
VERSION:2.0
PRODID:-//www.ketchikanarts.org//NONSGML kigkonsult.se iCalcreator 2.30.10/
 /
CALSCALE:GREGORIAN
METHOD:PUBLISH
UID:c0ccdf12-750c-43a4-9a65-292189adae35
X-WR-CALDESC:Open Mic\nFeaturing the talents of Cullen McCormick and Chazz 
 Gist\n$5 Cover\, Must be 21 years of age or accompanied by a parent or gua
 rdian.\n
X-WR-RELCALID:34cf70664c5957246e657488f2db8af6
X-WR-TIMEZONE:America/Anchorage
BEGIN:VTIMEZONE
TZID:America/Anchorage
BEGIN:STANDARD
TZNAME:AKST
DTSTART:20211107T020000
TZOFFSETFROM:-0800
TZOFFSETTO:-0900
RDATE:20221106T020000
RDATE:20231105T020000
END:STANDARD
BEGIN:DAYLIGHT
TZNAME:AKDT
DTSTART:20220313T020000
TZOFFSETFROM:-0900
TZOFFSETTO:-0800
RDATE:20230312T020000
END:DAYLIGHT
END:VTIMEZONE
BEGIN:VEVENT
UID:f646f3cb-ef1e-45ef-8fc3-0da6120543e7
DTSTAMP:20260420T075538Z
DESCRIPTION:Open Mic\nFeaturing the talents of Cullen McCormick and Chazz G
 ist\n$5 Cover\, Must be 21 years of age or accompanied by a parent or guar
 dian.\n
DTSTART;TZID=America/Anchorage:20220703T180000
DTEND;TZID=America/Anchorage:20220703T210000
LOCATION:Creek Street Cabaret
SUMMARY:Open Mic with Joe Williams IV\, Cullen McCormick\, and Friends
END:VEVENT
END:VCALENDAR
