BEGIN:VCALENDAR
VERSION:2.0
PRODID:-//www.ketchikanarts.org//NONSGML kigkonsult.se iCalcreator 2.30.10/
 /
CALSCALE:GREGORIAN
METHOD:PUBLISH
UID:f9baae58-02d8-47f7-bd10-812e8e7c69e5
X-WR-CALDESC:LiveMusic from Washington 2 nights at the ARctic Bar
X-WR-RELCALID:4011ee05b11b3a182196a63e7566c9ad
X-WR-TIMEZONE:America/Anchorage
BEGIN:VTIMEZONE
TZID:America/Anchorage
BEGIN:STANDARD
TZNAME:AKST
DTSTART:20211107T020000
TZOFFSETFROM:-0800
TZOFFSETTO:-0900
RDATE:20221106T020000
RDATE:20231105T020000
END:STANDARD
BEGIN:DAYLIGHT
TZNAME:AKDT
DTSTART:20220313T020000
TZOFFSETFROM:-0900
TZOFFSETTO:-0800
RDATE:20230312T020000
END:DAYLIGHT
END:VTIMEZONE
BEGIN:VEVENT
UID:0845e0cf-d792-4dc5-aca1-1922fe9081c7
DTSTAMP:20260420T074836Z
DESCRIPTION:LiveMusic from Washington 2 nights at the ARctic Bar
DTSTART;TZID=America/Anchorage:20220702T173000
DTEND;TZID=America/Anchorage:20220702T210000
LOCATION:Arctic Bar
SUMMARY:Snacks at Midnight
END:VEVENT
END:VCALENDAR
