BEGIN:VCALENDAR
VERSION:2.0
PRODID:-//www.ketchikanarts.org//NONSGML kigkonsult.se iCalcreator 2.30.10/
 /
CALSCALE:GREGORIAN
METHOD:PUBLISH
UID:32cd8974-1008-4c96-b1be-15b5eb93f0e3
X-WR-CALDESC:LiveMusic from Washington 2 nights at the ARctic Bar
X-WR-RELCALID:3f08432bfeec3276977cdee297d00f3b
X-WR-TIMEZONE:America/Anchorage
BEGIN:VTIMEZONE
TZID:America/Anchorage
BEGIN:STANDARD
TZNAME:AKST
DTSTART:20211107T020000
TZOFFSETFROM:-0800
TZOFFSETTO:-0900
RDATE:20221106T020000
RDATE:20231105T020000
END:STANDARD
BEGIN:DAYLIGHT
TZNAME:AKDT
DTSTART:20220313T020000
TZOFFSETFROM:-0900
TZOFFSETTO:-0800
RDATE:20230312T020000
END:DAYLIGHT
END:VTIMEZONE
BEGIN:VEVENT
UID:3ea0e998-2d11-48df-86b2-48ababe3995a
DTSTAMP:20260420T074836Z
DESCRIPTION:LiveMusic from Washington 2 nights at the ARctic Bar
DTSTART;TZID=America/Anchorage:20220701T173000
DTEND;TZID=America/Anchorage:20220701T210000
LOCATION:Arctic Bar
SUMMARY:Snacks at Midnight
END:VEVENT
END:VCALENDAR
