BEGIN:VCALENDAR
VERSION:2.0
PRODID:-//www.ketchikanarts.org//NONSGML kigkonsult.se iCalcreator 2.30.10/
 /
CALSCALE:GREGORIAN
METHOD:PUBLISH
UID:e9367e84-e0fc-4e5a-9c76-eec7d8a6c97c
X-WR-CALDESC:There has been a change to the Schedule  Austin Hays will be p
 erforming today!
X-WR-RELCALID:c33fbc451e013f1d6963b5e53d18a13b
X-WR-TIMEZONE:America/Anchorage
BEGIN:VTIMEZONE
TZID:America/Anchorage
BEGIN:STANDARD
TZNAME:AKST
DTSTART:20211107T020000
TZOFFSETFROM:-0800
TZOFFSETTO:-0900
RDATE:20221106T020000
RDATE:20231105T020000
END:STANDARD
BEGIN:DAYLIGHT
TZNAME:AKDT
DTSTART:20220313T020000
TZOFFSETFROM:-0900
TZOFFSETTO:-0800
RDATE:20230312T020000
END:DAYLIGHT
END:VTIMEZONE
BEGIN:VEVENT
UID:089a3a15-735f-4a70-aae7-47c5ad04cea2
DTSTAMP:20260420T075013Z
DESCRIPTION:There has been a change to the Schedule  Austin Hays will be pe
 rforming today!
DTSTART;TZID=America/Anchorage:20220701T120000
DTEND;TZID=America/Anchorage:20220701T130000
LOCATION:
SUMMARY:Music on the Dock
END:VEVENT
END:VCALENDAR
