BEGIN:VCALENDAR
VERSION:2.0
PRODID:-//www.ketchikanarts.org//NONSGML kigkonsult.se iCalcreator 2.30.10/
 /
CALSCALE:GREGORIAN
METHOD:PUBLISH
UID:38ca97cd-1171-4748-9393-3e757c1463b8
X-WR-CALDESC:Nathan Scott Ford! \nPG -13 Comedy Show \n$20 tickets are avai
 lable at the Door!
X-WR-RELCALID:8261116cfe227101608ae880fac98938
X-WR-TIMEZONE:America/Anchorage
BEGIN:VTIMEZONE
TZID:America/Anchorage
BEGIN:STANDARD
TZNAME:AKST
DTSTART:20211107T020000
TZOFFSETFROM:-0800
TZOFFSETTO:-0900
RDATE:20221106T020000
RDATE:20231105T020000
END:STANDARD
BEGIN:DAYLIGHT
TZNAME:AKDT
DTSTART:20220313T020000
TZOFFSETFROM:-0900
TZOFFSETTO:-0800
RDATE:20230312T020000
END:DAYLIGHT
END:VTIMEZONE
BEGIN:VEVENT
UID:4fd91f20-6da8-4b2d-a33d-58f797c6ccf8
DTSTAMP:20260420T074837Z
DESCRIPTION:Nathan Scott Ford! \nPG -13 Comedy Show \n$20 tickets are avail
 able at the Door!
DTSTART;TZID=America/Anchorage:20220701T200000
DTEND;TZID=America/Anchorage:20220701T213000
LOCATION:Ted Ferry Civic Center
SUMMARY:Comedy Show
END:VEVENT
END:VCALENDAR
