BEGIN:VCALENDAR
VERSION:2.0
PRODID:-//www.ketchikanarts.org//NONSGML kigkonsult.se iCalcreator 2.30.10/
 /
CALSCALE:GREGORIAN
METHOD:PUBLISH
UID:97076d17-756a-4f58-ae39-4cb8647b902b
X-WR-CALDESC:Live Music at the Arctic Bar
X-WR-RELCALID:b0ee363ea7742f7b82d262168319add2
X-WR-TIMEZONE:America/Anchorage
BEGIN:VTIMEZONE
TZID:America/Anchorage
BEGIN:STANDARD
TZNAME:AKST
DTSTART:20211107T020000
TZOFFSETFROM:-0800
TZOFFSETTO:-0900
RDATE:20221106T020000
RDATE:20231105T020000
END:STANDARD
BEGIN:DAYLIGHT
TZNAME:AKDT
DTSTART:20220313T020000
TZOFFSETFROM:-0900
TZOFFSETTO:-0800
RDATE:20230312T020000
END:DAYLIGHT
END:VTIMEZONE
BEGIN:VEVENT
UID:f6405faa-ad18-467a-a229-9d3c76e180fa
DTSTAMP:20260420T074944Z
DESCRIPTION:Live Music at the Arctic Bar
DTSTART;TZID=America/Anchorage:20220701T210000
DTEND;TZID=America/Anchorage:20220701T220000
LOCATION:Arctic Bar
SUMMARY:Alaska Red
END:VEVENT
END:VCALENDAR
