BEGIN:VCALENDAR
VERSION:2.0
PRODID:-//www.ketchikanarts.org//NONSGML kigkonsult.se iCalcreator 2.30.10/
 /
CALSCALE:GREGORIAN
METHOD:PUBLISH
UID:7de3df33-8df0-4faf-a866-f48c4e98a838
X-WR-CALDESC:Austin will perform Wednesday Nights through the summer \nFree
  to patrons of the Timbers Resturant
X-WR-RELCALID:fefa506952e3093eb520033a4798a654
X-WR-TIMEZONE:America/Anchorage
BEGIN:VTIMEZONE
TZID:America/Anchorage
BEGIN:STANDARD
TZNAME:AKST
DTSTART:20211107T020000
TZOFFSETFROM:-0800
TZOFFSETTO:-0900
RDATE:20221106T020000
RDATE:20231105T020000
END:STANDARD
BEGIN:DAYLIGHT
TZNAME:AKDT
DTSTART:20220313T020000
TZOFFSETFROM:-0900
TZOFFSETTO:-0800
RDATE:20230312T020000
END:DAYLIGHT
END:VTIMEZONE
BEGIN:VEVENT
UID:5510687f-c841-47ef-b390-c1056b5efdea
DTSTAMP:20260420T093754Z
DESCRIPTION:Austin will perform Wednesday Nights through the summer \nFree 
 to patrons of the Timbers Resturant
DTSTART;TZID=America/Anchorage:20220629T180000
DTEND;TZID=America/Anchorage:20220629T200000
LOCATION:Timbers Restaurant Salmon Falls Resort
SUMMARY:Austin Hays Solo
END:VEVENT
END:VCALENDAR
