BEGIN:VCALENDAR
VERSION:2.0
PRODID:-//www.ketchikanarts.org//NONSGML kigkonsult.se iCalcreator 2.30.10/
 /
CALSCALE:GREGORIAN
METHOD:PUBLISH
UID:cb6b9966-2278-48f4-aca0-d1bdd9009236
X-WR-CALDESC:Sarah Short and Samantha Wodehouse
X-WR-RELCALID:8e06a3788addfb45db24180a29361f6f
X-WR-TIMEZONE:America/Anchorage
BEGIN:VTIMEZONE
TZID:America/Anchorage
BEGIN:STANDARD
TZNAME:AKST
DTSTART:20211107T020000
TZOFFSETFROM:-0800
TZOFFSETTO:-0900
RDATE:20221106T020000
RDATE:20231105T020000
END:STANDARD
BEGIN:DAYLIGHT
TZNAME:AKDT
DTSTART:20220313T020000
TZOFFSETFROM:-0900
TZOFFSETTO:-0800
RDATE:20230312T020000
END:DAYLIGHT
END:VTIMEZONE
BEGIN:VEVENT
UID:9f576018-9681-4503-a67e-059234650c78
DTSTAMP:20260420T092132Z
DESCRIPTION:Sarah Short and Samantha Wodehouse
DTSTART;TZID=America/Anchorage:20220628T120000
DTEND;TZID=America/Anchorage:20220628T130000
LOCATION:
SUMMARY:Music on the Dock
END:VEVENT
END:VCALENDAR
