BEGIN:VCALENDAR
VERSION:2.0
PRODID:-//www.ketchikanarts.org//NONSGML kigkonsult.se iCalcreator 2.30.10/
 /
CALSCALE:GREGORIAN
METHOD:PUBLISH
UID:5441923e-b208-4713-98e7-b4422c6a76dd
X-WR-CALDESC:Lallette Kistler & the Ketchikan Community Chorus Summer Singe
 rs
X-WR-RELCALID:336a0a1f1f2ab2a0b38b434df92f5d39
X-WR-TIMEZONE:America/Anchorage
BEGIN:VTIMEZONE
TZID:America/Anchorage
BEGIN:STANDARD
TZNAME:AKST
DTSTART:20211107T020000
TZOFFSETFROM:-0800
TZOFFSETTO:-0900
RDATE:20221106T020000
RDATE:20231105T020000
END:STANDARD
BEGIN:DAYLIGHT
TZNAME:AKDT
DTSTART:20220313T020000
TZOFFSETFROM:-0900
TZOFFSETTO:-0800
RDATE:20230312T020000
END:DAYLIGHT
END:VTIMEZONE
BEGIN:VEVENT
UID:a2cb3871-0649-4b02-87b9-42308343d263
DTSTAMP:20260420T092133Z
DESCRIPTION:Lallette Kistler & the Ketchikan Community Chorus Summer Singer
 s
DTSTART;TZID=America/Anchorage:20220627T120000
DTEND;TZID=America/Anchorage:20220627T130000
LOCATION:
SUMMARY:Music on the Dock
END:VEVENT
END:VCALENDAR
