BEGIN:VCALENDAR
VERSION:2.0
PRODID:-//www.ketchikanarts.org//NONSGML kigkonsult.se iCalcreator 2.30.10/
 /
CALSCALE:GREGORIAN
METHOD:PUBLISH
UID:b964d2e2-bdf6-421a-aeb1-f622eef454dc
X-WR-CALDESC:
X-WR-RELCALID:2b155898e254b3fd65b6ce5c4a43b4c5
X-WR-TIMEZONE:America/Anchorage
BEGIN:VTIMEZONE
TZID:America/Anchorage
BEGIN:STANDARD
TZNAME:AKST
DTSTART:20211107T020000
TZOFFSETFROM:-0800
TZOFFSETTO:-0900
RDATE:20221106T020000
RDATE:20231105T020000
END:STANDARD
BEGIN:DAYLIGHT
TZNAME:AKDT
DTSTART:20220313T020000
TZOFFSETFROM:-0900
TZOFFSETTO:-0800
RDATE:20230312T020000
END:DAYLIGHT
END:VTIMEZONE
BEGIN:VEVENT
UID:cedf7e9d-3fac-4ba1-9d33-f64f61b6ed73
DTSTAMP:20260420T091940Z
DESCRIPTION:
DTSTART;TZID=America/Anchorage:20220625T210000
DTEND;TZID=America/Anchorage:20220626T010000
LOCATION:Arctic Bar
SUMMARY:Yung Cutter
END:VEVENT
END:VCALENDAR
