BEGIN:VCALENDAR
VERSION:2.0
PRODID:-//www.ketchikanarts.org//NONSGML kigkonsult.se iCalcreator 2.30.10/
 /
CALSCALE:GREGORIAN
METHOD:PUBLISH
UID:7d396968-bf69-4942-b23d-6fec08bf5852
X-WR-CALDESC:The Free Radicals
X-WR-RELCALID:ded18d958df411d011c9d555cbaa2d8f
X-WR-TIMEZONE:America/Anchorage
BEGIN:VTIMEZONE
TZID:America/Anchorage
BEGIN:STANDARD
TZNAME:AKST
DTSTART:20211107T020000
TZOFFSETFROM:-0800
TZOFFSETTO:-0900
RDATE:20221106T020000
RDATE:20231105T020000
END:STANDARD
BEGIN:DAYLIGHT
TZNAME:AKDT
DTSTART:20220313T020000
TZOFFSETFROM:-0900
TZOFFSETTO:-0800
RDATE:20230312T020000
END:DAYLIGHT
END:VTIMEZONE
BEGIN:VEVENT
UID:cf59aa32-c18d-4902-b23e-d361560de548
DTSTAMP:20260420T092018Z
DESCRIPTION:The Free Radicals
DTSTART;TZID=America/Anchorage:20220624T120000
DTEND;TZID=America/Anchorage:20220624T130000
LOCATION:
SUMMARY:Music on the Dock
END:VEVENT
END:VCALENDAR
