BEGIN:VCALENDAR
VERSION:2.0
PRODID:-//www.ketchikanarts.org//NONSGML kigkonsult.se iCalcreator 2.30.10/
 /
CALSCALE:GREGORIAN
METHOD:PUBLISH
UID:2d8602a2-3ee4-458b-b2eb-1348a0d07f98
X-WR-CALDESC:Fridays at the New York Cafe\nLocal live music free to restaur
 ant and bar patrons
X-WR-RELCALID:c791de3b6a079eabdab4d926e516c267
X-WR-TIMEZONE:America/Anchorage
BEGIN:VTIMEZONE
TZID:America/Anchorage
BEGIN:STANDARD
TZNAME:AKST
DTSTART:20211107T020000
TZOFFSETFROM:-0800
TZOFFSETTO:-0900
RDATE:20221106T020000
RDATE:20231105T020000
END:STANDARD
BEGIN:DAYLIGHT
TZNAME:AKDT
DTSTART:20220313T020000
TZOFFSETFROM:-0900
TZOFFSETTO:-0800
RDATE:20230312T020000
END:DAYLIGHT
END:VTIMEZONE
BEGIN:VEVENT
UID:2844b572-0ce4-4d04-80e5-e8b4e64b3bb1
DTSTAMP:20260420T092508Z
DESCRIPTION:Fridays at the New York Cafe\nLocal live music free to restaura
 nt and bar patrons
DTSTART;TZID=America/Anchorage:20220624T190000
DTEND;TZID=America/Anchorage:20220624T210000
LOCATION:New York Cafe
SUMMARY:Dave Hannah and Chazz
END:VEVENT
END:VCALENDAR
