BEGIN:VCALENDAR
VERSION:2.0
PRODID:-//www.ketchikanarts.org//NONSGML kigkonsult.se iCalcreator 2.30.10/
 /
CALSCALE:GREGORIAN
METHOD:PUBLISH
UID:2bf603c2-11d2-4364-a2b8-2bb325c7ce3f
X-WR-CALDESC:The Point Band
X-WR-RELCALID:7802ae5199948077415f0aeeff5b6ebd
X-WR-TIMEZONE:America/Anchorage
BEGIN:VTIMEZONE
TZID:America/Anchorage
BEGIN:STANDARD
TZNAME:AKST
DTSTART:20211107T020000
TZOFFSETFROM:-0800
TZOFFSETTO:-0900
RDATE:20221106T020000
RDATE:20231105T020000
END:STANDARD
BEGIN:DAYLIGHT
TZNAME:AKDT
DTSTART:20220313T020000
TZOFFSETFROM:-0900
TZOFFSETTO:-0800
RDATE:20230312T020000
END:DAYLIGHT
END:VTIMEZONE
BEGIN:VEVENT
UID:7d7322ed-07cd-42e5-b4ce-6a35e0664328
DTSTAMP:20260420T091939Z
DESCRIPTION:The Point Band
DTSTART;TZID=America/Anchorage:20220621T120000
DTEND;TZID=America/Anchorage:20220621T130000
LOCATION:
SUMMARY:Music on the Dock
END:VEVENT
END:VCALENDAR
