BEGIN:VCALENDAR
VERSION:2.0
PRODID:-//www.ketchikanarts.org//NONSGML kigkonsult.se iCalcreator 2.30.10/
 /
CALSCALE:GREGORIAN
METHOD:PUBLISH
UID:c0e2acca-0e53-4b7b-a0af-f41551587b18
X-WR-CALDESC:Performances June 10\,11\, 17\, & 18\nFirst City Players produ
 ction of Peter and the Star Catchers at the Kayhi Auditorium. Directed by 
 our  Tickets on sale now or call 907-225-4792 to reserve your seats today!
X-WR-RELCALID:205c0b00a76d481d5c2464b5feba1759
X-WR-TIMEZONE:America/Anchorage
BEGIN:VTIMEZONE
TZID:America/Anchorage
BEGIN:STANDARD
TZNAME:AKST
DTSTART:20211107T020000
TZOFFSETFROM:-0800
TZOFFSETTO:-0900
RDATE:20221106T020000
RDATE:20231105T020000
END:STANDARD
BEGIN:DAYLIGHT
TZNAME:AKDT
DTSTART:20220313T020000
TZOFFSETFROM:-0900
TZOFFSETTO:-0800
RDATE:20230312T020000
END:DAYLIGHT
END:VTIMEZONE
BEGIN:VEVENT
UID:771c25c8-5308-4eea-8db1-45c5e7739923
DTSTAMP:20260420T092215Z
DESCRIPTION:Performances June 10\,11\, 17\, & 18\nFirst City Players produc
 tion of Peter and the Star Catchers at the Kayhi Auditorium. Directed by o
 ur  Tickets on sale now or call 907-225-4792 to reserve your seats today!
DTSTART;TZID=America/Anchorage:20220617T190000
DTEND;TZID=America/Anchorage:20220617T210000
LOCATION:
SUMMARY:Peter and the Star Catchers
END:VEVENT
END:VCALENDAR
