BEGIN:VCALENDAR
VERSION:2.0
PRODID:-//www.ketchikanarts.org//NONSGML kigkonsult.se iCalcreator 2.30.10/
 /
CALSCALE:GREGORIAN
METHOD:PUBLISH
UID:72e38924-f8d0-450f-9e82-1092561ca37c
X-WR-CALDESC:Niles Corporon
X-WR-RELCALID:a39ff1b1e696b074a6d841aa7b574d8a
X-WR-TIMEZONE:America/Anchorage
BEGIN:VTIMEZONE
TZID:America/Anchorage
BEGIN:STANDARD
TZNAME:AKST
DTSTART:20211107T020000
TZOFFSETFROM:-0800
TZOFFSETTO:-0900
RDATE:20221106T020000
RDATE:20231105T020000
END:STANDARD
BEGIN:DAYLIGHT
TZNAME:AKDT
DTSTART:20220313T020000
TZOFFSETFROM:-0900
TZOFFSETTO:-0800
RDATE:20230312T020000
END:DAYLIGHT
END:VTIMEZONE
BEGIN:VEVENT
UID:7707fc40-d25e-4fcf-b927-ee14e4f5989c
DTSTAMP:20260420T091959Z
DESCRIPTION:Niles Corporon
DTSTART;TZID=America/Anchorage:20220616T120000
DTEND;TZID=America/Anchorage:20220616T130000
LOCATION:
SUMMARY:Music on the Dock
END:VEVENT
END:VCALENDAR
