BEGIN:VCALENDAR
VERSION:2.0
PRODID:-//www.ketchikanarts.org//NONSGML kigkonsult.se iCalcreator 2.30.10/
 /
CALSCALE:GREGORIAN
METHOD:PUBLISH
UID:49e1c125-787f-401c-8ef3-81df2ff1e4fb
X-WR-CALDESC:Live music\, guitar and vocals
X-WR-RELCALID:f168545e2263a2711b0e97317bc28f25
X-WR-TIMEZONE:America/Anchorage
BEGIN:VTIMEZONE
TZID:America/Anchorage
BEGIN:STANDARD
TZNAME:AKST
DTSTART:20211107T020000
TZOFFSETFROM:-0800
TZOFFSETTO:-0900
RDATE:20221106T020000
RDATE:20231105T020000
END:STANDARD
BEGIN:DAYLIGHT
TZNAME:AKDT
DTSTART:20220313T020000
TZOFFSETFROM:-0900
TZOFFSETTO:-0800
RDATE:20230312T020000
END:DAYLIGHT
END:VTIMEZONE
BEGIN:VEVENT
UID:bb5ca10a-fe60-4c68-9460-c58a7d1a2f3e
DTSTAMP:20260420T092449Z
DESCRIPTION:Live music\, guitar and vocals
DTSTART;TZID=America/Anchorage:20220615T190000
DTEND;TZID=America/Anchorage:20220615T220000
LOCATION:Fat Stans Pizza
SUMMARY:Joe Williams IV and Cullen McCormick
END:VEVENT
END:VCALENDAR
