BEGIN:VCALENDAR
VERSION:2.0
PRODID:-//www.ketchikanarts.org//NONSGML kigkonsult.se iCalcreator 2.30.10/
 /
CALSCALE:GREGORIAN
METHOD:PUBLISH
UID:4b2ed690-9c53-4cce-a71f-52029f4224fd
X-WR-CALDESC:Kayhi Drama Kings
X-WR-RELCALID:6ea77cec06e6bb6cd3a0057cd11fc96b
X-WR-TIMEZONE:America/Anchorage
BEGIN:VTIMEZONE
TZID:America/Anchorage
BEGIN:STANDARD
TZNAME:AKST
DTSTART:20211107T020000
TZOFFSETFROM:-0800
TZOFFSETTO:-0900
RDATE:20221106T020000
RDATE:20231105T020000
END:STANDARD
BEGIN:DAYLIGHT
TZNAME:AKDT
DTSTART:20220313T020000
TZOFFSETFROM:-0900
TZOFFSETTO:-0800
RDATE:20230312T020000
END:DAYLIGHT
END:VTIMEZONE
BEGIN:VEVENT
UID:8006fbf8-b1c5-4042-b8b8-d91042e202cd
DTSTAMP:20260420T092132Z
DESCRIPTION:Kayhi Drama Kings
DTSTART;TZID=America/Anchorage:20220613T120000
DTEND;TZID=America/Anchorage:20220613T130000
LOCATION:
SUMMARY:Music on the Dock
END:VEVENT
END:VCALENDAR
