BEGIN:VCALENDAR
VERSION:2.0
PRODID:-//www.ketchikanarts.org//NONSGML kigkonsult.se iCalcreator 2.30.10/
 /
CALSCALE:GREGORIAN
METHOD:PUBLISH
UID:83a50ff0-62ca-453c-bda8-cc37921f84c8
X-WR-CALDESC:The Artists of Ketchikan annual invitational is on exhibit at 
 the Main Street Gallery through July 29th. Enjoy the diversity and magnitu
 de of talent Ketchikan has.  Also\, fill out Blueberry Booth applications\
 , and renew your membership.
X-WR-RELCALID:b9256284cfd3ffd29b77d22146f1181d
X-WR-TIMEZONE:America/Anchorage
BEGIN:VTIMEZONE
TZID:America/Anchorage
BEGIN:STANDARD
TZNAME:AKST
DTSTART:20211107T020000
TZOFFSETFROM:-0800
TZOFFSETTO:-0900
RDATE:20221106T020000
RDATE:20231105T020000
END:STANDARD
BEGIN:DAYLIGHT
TZNAME:AKDT
DTSTART:20220313T020000
TZOFFSETFROM:-0900
TZOFFSETTO:-0800
RDATE:20230312T020000
END:DAYLIGHT
END:VTIMEZONE
BEGIN:VEVENT
UID:7e1de9aa-fe4d-4468-8e91-3e382c9ca449
DTSTAMP:20260420T092050Z
DESCRIPTION:The Artists of Ketchikan annual invitational is on exhibit at t
 he Main Street Gallery through July 29th. Enjoy the diversity and magnitud
 e of talent Ketchikan has.  Also\, fill out Blueberry Booth applications\,
  and renew your membership.
DTSTART;TZID=America/Anchorage:20220611T110000
DTEND;TZID=America/Anchorage:20220611T150000
LOCATION:
SUMMARY:Main Street Gallery OPEN
END:VEVENT
END:VCALENDAR
