BEGIN:VCALENDAR
VERSION:2.0
PRODID:-//www.ketchikanarts.org//NONSGML kigkonsult.se iCalcreator 2.30.10/
 /
CALSCALE:GREGORIAN
METHOD:PUBLISH
UID:24076531-4367-4a51-9a4d-464edbf409fc
X-WR-CALDESC:Performances June 10\,11\, 17\, & 18\nFirst City Players produ
 ction of Peter and the Star Catchers at the Kayhi Auditorium.  Tickets on 
 sale now or call 907-225-4792 to reserve your seats today!
X-WR-RELCALID:d7259ff39ba37c16e677a399f3a4945f
X-WR-TIMEZONE:America/Anchorage
BEGIN:VTIMEZONE
TZID:America/Anchorage
BEGIN:STANDARD
TZNAME:AKST
DTSTART:20211107T020000
TZOFFSETFROM:-0800
TZOFFSETTO:-0900
RDATE:20221106T020000
RDATE:20231105T020000
END:STANDARD
BEGIN:DAYLIGHT
TZNAME:AKDT
DTSTART:20220313T020000
TZOFFSETFROM:-0900
TZOFFSETTO:-0800
RDATE:20230312T020000
END:DAYLIGHT
END:VTIMEZONE
BEGIN:VEVENT
UID:2baa03a1-472b-4bf2-a8c9-7a65ee6c3edf
DTSTAMP:20260420T094304Z
DESCRIPTION:Performances June 10\,11\, 17\, & 18\nFirst City Players produc
 tion of Peter and the Star Catchers at the Kayhi Auditorium.  Tickets on s
 ale now or call 907-225-4792 to reserve your seats today!
DTSTART;TZID=America/Anchorage:20220610T190000
DTEND;TZID=America/Anchorage:20220610T210000
LOCATION:
SUMMARY:Peter and the Star Catchers
END:VEVENT
END:VCALENDAR
