BEGIN:VCALENDAR
VERSION:2.0
PRODID:-//www.ketchikanarts.org//NONSGML kigkonsult.se iCalcreator 2.30.10/
 /
CALSCALE:GREGORIAN
METHOD:PUBLISH
UID:ecd15aab-5367-47b4-bee3-a18e8dbff222
X-WR-CALDESC:Fridays at the New York Cafe\nLocal live music free to restaur
 ant and bar patrons
X-WR-RELCALID:cc6b71a5283cafe1bce930bdea4d3571
X-WR-TIMEZONE:America/Anchorage
BEGIN:VTIMEZONE
TZID:America/Anchorage
BEGIN:STANDARD
TZNAME:AKST
DTSTART:20211107T020000
TZOFFSETFROM:-0800
TZOFFSETTO:-0900
RDATE:20221106T020000
RDATE:20231105T020000
END:STANDARD
BEGIN:DAYLIGHT
TZNAME:AKDT
DTSTART:20220313T020000
TZOFFSETFROM:-0900
TZOFFSETTO:-0800
RDATE:20230312T020000
END:DAYLIGHT
END:VTIMEZONE
BEGIN:VEVENT
UID:a104d462-5e37-4069-a1f4-142d3ce3bdad
DTSTAMP:20260420T092353Z
DESCRIPTION:Fridays at the New York Cafe\nLocal live music free to restaura
 nt and bar patrons
DTSTART;TZID=America/Anchorage:20220610T190000
DTEND;TZID=America/Anchorage:20220610T210000
LOCATION:New York Cafe
SUMMARY:Dave Hannah and Chazz
END:VEVENT
END:VCALENDAR
