BEGIN:VCALENDAR
VERSION:2.0
PRODID:-//www.ketchikanarts.org//NONSGML kigkonsult.se iCalcreator 2.30.10/
 /
CALSCALE:GREGORIAN
METHOD:PUBLISH
UID:c1505ecb-e583-470c-ab53-97d487a358a8
X-WR-CALDESC:Sealaska Heritage: Celebration 2022: Celebrating 10\,000 Years
  of Cultural Survival\n Celebration 2022 will mark the 40th anniversary of
  the event\, first held in 1982. Celebration is one of the largest gatheri
 ngs of Southeast Alaska Native peoples\, drawing thousands of people\, inc
 luding more than 2\,000 dancers. For more information about the festival i
 ncluding tickets\, and application deadline please click on the link!\nIn-
 person event Juneau from June 8-11 in 2022.
X-WR-RELCALID:d40e07dc7c31b4d2659f841eac7d2331
X-WR-TIMEZONE:America/Anchorage
BEGIN:VTIMEZONE
TZID:America/Anchorage
BEGIN:STANDARD
TZNAME:AKST
DTSTART:20211107T020000
TZOFFSETFROM:-0800
TZOFFSETTO:-0900
RDATE:20221106T020000
RDATE:20231105T020000
END:STANDARD
BEGIN:DAYLIGHT
TZNAME:AKDT
DTSTART:20220313T020000
TZOFFSETFROM:-0900
TZOFFSETTO:-0800
RDATE:20230312T020000
END:DAYLIGHT
END:VTIMEZONE
BEGIN:VEVENT
UID:99ad7a90-1756-4b4f-8a6c-5449e809411f
DTSTAMP:20260420T092952Z
DESCRIPTION:Sealaska Heritage: Celebration 2022: Celebrating 10\,000 Years 
 of Cultural Survival\n Celebration 2022 will mark the 40th anniversary of 
 the event\, first held in 1982. Celebration is one of the largest gatherin
 gs of Southeast Alaska Native peoples\, drawing thousands of people\, incl
 uding more than 2\,000 dancers. For more information about the festival in
 cluding tickets\, and application deadline please click on the link!\nIn-p
 erson event Juneau from June 8-11 in 2022.
DTSTART;TZID=America/Anchorage:20220609T000000
DTEND;TZID=America/Anchorage:20220609T235900
LOCATION:Juneau\, Alaska
SUMMARY:Celebration 2022-Celebrating 10\,000 years of cultural survival- 40
 th Anniversary
END:VEVENT
END:VCALENDAR
