BEGIN:VCALENDAR
VERSION:2.0
PRODID:-//www.ketchikanarts.org//NONSGML kigkonsult.se iCalcreator 2.30.10/
 /
CALSCALE:GREGORIAN
METHOD:PUBLISH
UID:f2913d71-2561-4d23-a8a5-a49658532dc0
X-WR-CALDESC:Last week\, after almost exactly 7 years at the Ketchikan Area
  Arts and Humanities Council\, Jeff Fitzwater submitted his resignation. 
 \nJeff has been a stabilizing and gentle force at KAAHC for many years\, b
 ringing us humor\, thoughtfulness\, and awesome posters\, programs\, socia
 l media graphics\, and more.  He has been the gracious and welcoming face 
 of KAAHC and has kept membership\, ticketing\, and volunteer management cl
 ipping along while creating all of the marketing and promotional materials
  needed to keep the community informed and aware of KAAHC activities. He h
 as been a wonderful presence in the organization and a delightful friend. 
 We hope the best for Jeff on his next adventures.\nOn June 8th please help
  us bid a fond goodbye to our long-time friend and Administrative Manager 
 Jeff Fiztwater on his last day at the Arts and Humanities Council\, and th
 e official day to Celebrate Jeff Fitzwater’s Contribution to the Arts in K
 etchikan Day at the Main Street Gallery from 9 am to 5 pm. Come say hello\
 , thank you\, and congrats to Jeff on his last day here. Snacks and refres
 hments will be available all day!!!\n
X-WR-RELCALID:1f2d23bdf633244b8ff5d92e67ec37c4
X-WR-TIMEZONE:America/Anchorage
BEGIN:VTIMEZONE
TZID:America/Anchorage
BEGIN:STANDARD
TZNAME:AKST
DTSTART:20211107T020000
TZOFFSETFROM:-0800
TZOFFSETTO:-0900
RDATE:20221106T020000
RDATE:20231105T020000
END:STANDARD
BEGIN:DAYLIGHT
TZNAME:AKDT
DTSTART:20220313T020000
TZOFFSETFROM:-0900
TZOFFSETTO:-0800
RDATE:20230312T020000
END:DAYLIGHT
END:VTIMEZONE
BEGIN:VEVENT
UID:6baefecf-fa14-4e44-b197-b1806f3d2e04
DTSTAMP:20260420T094304Z
DESCRIPTION:Last week\, after almost exactly 7 years at the Ketchikan Area 
 Arts and Humanities Council\, Jeff Fitzwater submitted his resignation. \n
 Jeff has been a stabilizing and gentle force at KAAHC for many years\, bri
 nging us humor\, thoughtfulness\, and awesome posters\, programs\, social 
 media graphics\, and more.  He has been the gracious and welcoming face of
  KAAHC and has kept membership\, ticketing\, and volunteer management clip
 ping along while creating all of the marketing and promotional materials n
 eeded to keep the community informed and aware of KAAHC activities. He has
  been a wonderful presence in the organization and a delightful friend. We
  hope the best for Jeff on his next adventures.\nOn June 8th please help u
 s bid a fond goodbye to our long-time friend and Administrative Manager Je
 ff Fiztwater on his last day at the Arts and Humanities Council\, and the 
 official day to Celebrate Jeff Fitzwater’s Contribution to the Arts in Ket
 chikan Day at the Main Street Gallery from 9 am to 5 pm. Come say hello\, 
 thank you\, and congrats to Jeff on his last day here. Snacks and refreshm
 ents will be available all day!!!\n
DTSTART;TZID=America/Anchorage:20220608T090000
DTEND;TZID=America/Anchorage:20220608T170000
LOCATION:
SUMMARY:Celebrate Jeff Fitzwater’s Contribution to the Arts in Ketchikan Da
 y!
END:VEVENT
END:VCALENDAR
