BEGIN:VCALENDAR
VERSION:2.0
PRODID:-//www.ketchikanarts.org//NONSGML kigkonsult.se iCalcreator 2.30.10/
 /
CALSCALE:GREGORIAN
METHOD:PUBLISH
UID:f68b8a05-60cd-41e2-bfa2-0bcf4b773c61
X-WR-CALDESC:SOS Arts Cincinnati is calling all North American Artists to T
 he 3rd annual SOS Art Challenge and Exhibit of Mini prints on Peace and Ju
 stice\n\n1) Mini prints from any North American artist or artist living in
  the USA\n2) Mini prints limited to only traditional techniques of printma
 king (digital prints not accepted)\n2) Mini prints to relate to themes of 
 peace and justice\n3) Artist to submit up to 3 different mini prints \n4) 
 Unique size of mini-print: image 6x6'\, centered in paper 10x10'\n5) Minip
 rint to have been created within the past 5 years\n
X-WR-RELCALID:51d663300c1a258e935e4439daed1afd
X-WR-TIMEZONE:America/Anchorage
BEGIN:VTIMEZONE
TZID:America/Anchorage
BEGIN:STANDARD
TZNAME:AKST
DTSTART:20211107T020000
TZOFFSETFROM:-0800
TZOFFSETTO:-0900
RDATE:20221106T020000
RDATE:20231105T020000
END:STANDARD
BEGIN:DAYLIGHT
TZNAME:AKDT
DTSTART:20220313T020000
TZOFFSETFROM:-0900
TZOFFSETTO:-0800
RDATE:20230312T020000
END:DAYLIGHT
END:VTIMEZONE
BEGIN:VEVENT
UID:6285de3a-ffa9-4b0b-9eed-6636ae393e50
DTSTAMP:20260420T092629Z
DESCRIPTION:SOS Arts Cincinnati is calling all North American Artists to Th
 e 3rd annual SOS Art Challenge and Exhibit of Mini prints on Peace and Jus
 tice\n\n1) Mini prints from any North American artist or artist living in 
 the USA\n2) Mini prints limited to only traditional techniques of printmak
 ing (digital prints not accepted)\n2) Mini prints to relate to themes of p
 eace and justice\n3) Artist to submit up to 3 different mini prints \n4) U
 nique size of mini-print: image 6x6'\, centered in paper 10x10'\n5) Minipr
 int to have been created within the past 5 years\n
DTSTART;TZID=America/Anchorage:20220605T000000
DTEND;TZID=America/Anchorage:20220605T235900
LOCATION:
SUMMARY:Call to All North American Artists
END:VEVENT
END:VCALENDAR
