BEGIN:VCALENDAR
VERSION:2.0
PRODID:-//www.ketchikanarts.org//NONSGML kigkonsult.se iCalcreator 2.30.10/
 /
CALSCALE:GREGORIAN
METHOD:PUBLISH
UID:4b2e7daf-edac-4faf-b668-959ce7b9dfdb
X-WR-CALDESC:See poster\nNO Cover Charge\n
X-WR-RELCALID:0b07d914dc291ba63512ee92fb8630e6
X-WR-TIMEZONE:America/Anchorage
BEGIN:VTIMEZONE
TZID:America/Anchorage
BEGIN:STANDARD
TZNAME:AKST
DTSTART:20211107T020000
TZOFFSETFROM:-0800
TZOFFSETTO:-0900
RDATE:20221106T020000
RDATE:20231105T020000
END:STANDARD
BEGIN:DAYLIGHT
TZNAME:AKDT
DTSTART:20220313T020000
TZOFFSETFROM:-0900
TZOFFSETTO:-0800
RDATE:20230312T020000
END:DAYLIGHT
END:VTIMEZONE
BEGIN:VEVENT
UID:ffdc5d8d-6f6c-4520-bb2f-3175d9814831
DTSTAMP:20260420T092216Z
DESCRIPTION:See poster\nNO Cover Charge\n
DTSTART;TZID=America/Anchorage:20220604T210000
DTEND;TZID=America/Anchorage:20220604T233000
LOCATION:Totem
SUMMARY:Woody's Finest Hour
END:VEVENT
END:VCALENDAR
