BEGIN:VCALENDAR
VERSION:2.0
PRODID:-//www.ketchikanarts.org//NONSGML kigkonsult.se iCalcreator 2.30.10/
 /
CALSCALE:GREGORIAN
METHOD:PUBLISH
UID:7a1fcb7e-cc72-413b-a033-97dbec33ae0d
X-WR-CALDESC:Kick-off Pride Month with K-Funk \n$10 at the door\nMust be 21
  years or accompanied by a parent or legal guardian\nAll proceeds go to th
 e Pride Alliance\n\n
X-WR-RELCALID:6ce92c110c936b4333be8830aa8a9982
X-WR-TIMEZONE:America/Anchorage
BEGIN:VTIMEZONE
TZID:America/Anchorage
BEGIN:STANDARD
TZNAME:AKST
DTSTART:20211107T020000
TZOFFSETFROM:-0800
TZOFFSETTO:-0900
RDATE:20221106T020000
RDATE:20231105T020000
END:STANDARD
BEGIN:DAYLIGHT
TZNAME:AKDT
DTSTART:20220313T020000
TZOFFSETFROM:-0900
TZOFFSETTO:-0800
RDATE:20230312T020000
END:DAYLIGHT
END:VTIMEZONE
BEGIN:VEVENT
UID:ebcecdfa-9955-414c-ba2b-8a3a479897ad
DTSTAMP:20260420T091830Z
DESCRIPTION:Kick-off Pride Month with K-Funk \n$10 at the door\nMust be 21 
 years or accompanied by a parent or legal guardian\nAll proceeds go to the
  Pride Alliance\n\n
DTSTART;TZID=America/Anchorage:20220603T210000
DTEND;TZID=America/Anchorage:20220604T000000
LOCATION:Creek Street Cabaret
SUMMARY:K-Funk
END:VEVENT
END:VCALENDAR
