BEGIN:VCALENDAR
VERSION:2.0
PRODID:-//www.ketchikanarts.org//NONSGML kigkonsult.se iCalcreator 2.30.10/
 /
CALSCALE:GREGORIAN
METHOD:PUBLISH
UID:78d82b7a-9dcd-43f1-8b9c-d736dc2d20d3
X-WR-CALDESC:The Deadline for the 3rd quarter at the Commons Gallery\n\nThe
  Tongass Federal Credit Union (TFCU) and the Ketchikan Area Arts and Human
 ities Council (KAAHC) have joined forces and are proud to announce a Call 
 to Artists to exhibit at The Commons Gallery!!!\n\nThe Commons Gallery is 
 Ketchikan’s newest gallery space\, located in one of Ketchikan’s newest ga
 thering spots. The overall focus of the new space is to support and encour
 age entrepreneurial efforts by providing temporary office space\, meeting 
 spaces\, and small business assistance. In addition\, TFCU has built a cof
 fee bar and restaurant in the space which creates a common area. It is in 
 this common area that The Commons Gallery lives. In the entrepreneurial sp
 irit of the venue\, artists are invited to exhibit in two different ways. 
 The vision for the Commons Gallery is to help inspire emerging and establi
 shed artists by providing flexible exhibit space for artists working in al
 l mediums.\n\nExhibit Option 1\nIn order to support emerging artists\, and
  artists whose work takes an enormous amount of resources and time and the
 refore is difficult to amass a full body of work\, Exhibit Option 1 allows
  artists to submit up to two pieces to be displayed for a 3-month time fra
 me quarterly in The Commons Gallery. Selected works may be for sale or may
 be work that is not for sale. Selected works must be appropriate for all a
 ges. Exhibit Option 1 is not intended for artists wishing to display a ful
 l body of work. See Exhibit Option 1 Proposal Submission page below or to 
 the right.\n\nExhibit Option 2\nIndividual artists or artists working as a
  group may submit a proposal for a body of work to be exhibited during the
  2022 Commons Gallery season. Selected exhibits will be on display for a 3
 -month time frame quarterly. Selected exhibits may include work for sale\,
  or work that is not for sale\, but the body of work should be new work th
 at has never been exhibited in Ketchikan – including Social Media. This ex
 hibit option is restricted in that the proposed artwork must be able to be
  displayed within an   8' 6' x 26' space. Selected exhibits will be approp
 riate for all ages. See Exhibit Option 2 Proposal Submission page below or
  to the right.
X-WR-RELCALID:b984a7eb6ac41ba932ff8a3c599ebdf7
X-WR-TIMEZONE:America/Anchorage
BEGIN:VTIMEZONE
TZID:America/Anchorage
BEGIN:STANDARD
TZNAME:AKST
DTSTART:20211107T020000
TZOFFSETFROM:-0800
TZOFFSETTO:-0900
RDATE:20221106T020000
RDATE:20231105T020000
END:STANDARD
BEGIN:DAYLIGHT
TZNAME:AKDT
DTSTART:20220313T020000
TZOFFSETFROM:-0900
TZOFFSETTO:-0800
RDATE:20230312T020000
END:DAYLIGHT
END:VTIMEZONE
BEGIN:VEVENT
UID:473efe66-ef87-47a7-967f-113323329dbe
DTSTAMP:20260420T092256Z
DESCRIPTION:The Deadline for the 3rd quarter at the Commons Gallery\n\nThe 
 Tongass Federal Credit Union (TFCU) and the Ketchikan Area Arts and Humani
 ties Council (KAAHC) have joined forces and are proud to announce a Call t
 o Artists to exhibit at The Commons Gallery!!!\n\nThe Commons Gallery is K
 etchikan’s newest gallery space\, located in one of Ketchikan’s newest gat
 hering spots. The overall focus of the new space is to support and encoura
 ge entrepreneurial efforts by providing temporary office space\, meeting s
 paces\, and small business assistance. In addition\, TFCU has built a coff
 ee bar and restaurant in the space which creates a common area. It is in t
 his common area that The Commons Gallery lives. In the entrepreneurial spi
 rit of the venue\, artists are invited to exhibit in two different ways. T
 he vision for the Commons Gallery is to help inspire emerging and establis
 hed artists by providing flexible exhibit space for artists working in all
  mediums.\n\nExhibit Option 1\nIn order to support emerging artists\, and 
 artists whose work takes an enormous amount of resources and time and ther
 efore is difficult to amass a full body of work\, Exhibit Option 1 allows 
 artists to submit up to two pieces to be displayed for a 3-month time fram
 e quarterly in The Commons Gallery. Selected works may be for sale or mayb
 e work that is not for sale. Selected works must be appropriate for all ag
 es. Exhibit Option 1 is not intended for artists wishing to display a full
  body of work. See Exhibit Option 1 Proposal Submission page below or to t
 he right.\n\nExhibit Option 2\nIndividual artists or artists working as a 
 group may submit a proposal for a body of work to be exhibited during the 
 2022 Commons Gallery season. Selected exhibits will be on display for a 3-
 month time frame quarterly. Selected exhibits may include work for sale\, 
 or work that is not for sale\, but the body of work should be new work tha
 t has never been exhibited in Ketchikan – including Social Media. This exh
 ibit option is restricted in that the proposed artwork must be able to be 
 displayed within an   8' 6' x 26' space. Selected exhibits will be appropr
 iate for all ages. See Exhibit Option 2 Proposal Submission page below or 
 to the right.
DTSTART;TZID=America/Anchorage:20220601T000000
DTEND;TZID=America/Anchorage:20220601T235900
LOCATION:
SUMMARY:Call for Artists for the 3rd Quarter Commons Gallery
END:VEVENT
END:VCALENDAR
