BEGIN:VCALENDAR
VERSION:2.0
PRODID:-//www.ketchikanarts.org//NONSGML kigkonsult.se iCalcreator 2.30.10/
 /
CALSCALE:GREGORIAN
METHOD:PUBLISH
UID:fcb43757-53c2-45ed-b654-a80b9b32f3b6
X-WR-CALDESC:Acoustic guitarist\, Mike Droho is performing for two nights a
 t the Creek Street Cabaret 123 Stedman Street\n$5 at the door
X-WR-RELCALID:fdefd735108135a1b9eacce29412e507
X-WR-TIMEZONE:America/Anchorage
BEGIN:VTIMEZONE
TZID:America/Anchorage
BEGIN:STANDARD
TZNAME:AKST
DTSTART:20211107T020000
TZOFFSETFROM:-0800
TZOFFSETTO:-0900
RDATE:20221106T020000
RDATE:20231105T020000
END:STANDARD
BEGIN:DAYLIGHT
TZNAME:AKDT
DTSTART:20220313T020000
TZOFFSETFROM:-0900
TZOFFSETTO:-0800
RDATE:20230312T020000
END:DAYLIGHT
END:VTIMEZONE
BEGIN:VEVENT
UID:8c11bcf7-e7ca-4d79-a6e5-7f42f5f16724
DTSTAMP:20260420T105055Z
DESCRIPTION:Acoustic guitarist\, Mike Droho is performing for two nights at
  the Creek Street Cabaret 123 Stedman Street\n$5 at the door
DTSTART;TZID=America/Anchorage:20220527T190000
DTEND;TZID=America/Anchorage:20220527T210000
LOCATION:Creek Street Cabaret
SUMMARY:Mike Droho
END:VEVENT
END:VCALENDAR
