BEGIN:VCALENDAR
VERSION:2.0
PRODID:-//www.ketchikanarts.org//NONSGML kigkonsult.se iCalcreator 2.30.10/
 /
CALSCALE:GREGORIAN
METHOD:PUBLISH
UID:d56d26fd-a6c4-4590-b20f-ba6b8a1066af
X-WR-CALDESC:Acoustic guitarist\, Mike Droho is performing for two nights a
 t the Creek Street Cabaret 123 Stedman Street\n$5 at the door
X-WR-RELCALID:7212ab8df9a4e9b2a72e6cc1a348860c
X-WR-TIMEZONE:America/Anchorage
BEGIN:VTIMEZONE
TZID:America/Anchorage
BEGIN:STANDARD
TZNAME:AKST
DTSTART:20211107T020000
TZOFFSETFROM:-0800
TZOFFSETTO:-0900
RDATE:20221106T020000
RDATE:20231105T020000
END:STANDARD
BEGIN:DAYLIGHT
TZNAME:AKDT
DTSTART:20220313T020000
TZOFFSETFROM:-0900
TZOFFSETTO:-0800
RDATE:20230312T020000
END:DAYLIGHT
END:VTIMEZONE
BEGIN:VEVENT
UID:871a79d4-91b6-4f20-b614-965e81a74362
DTSTAMP:20260420T105055Z
DESCRIPTION:Acoustic guitarist\, Mike Droho is performing for two nights at
  the Creek Street Cabaret 123 Stedman Street\n$5 at the door
DTSTART;TZID=America/Anchorage:20220526T180000
DTEND;TZID=America/Anchorage:20220526T200000
LOCATION:Creek Street Cabaret
SUMMARY:Mike Droho
END:VEVENT
END:VCALENDAR
