BEGIN:VCALENDAR
VERSION:2.0
PRODID:-//www.ketchikanarts.org//NONSGML kigkonsult.se iCalcreator 2.30.10/
 /
CALSCALE:GREGORIAN
METHOD:PUBLISH
UID:d9878629-e16a-46cb-9588-36dc680aeb2d
X-WR-CALDESC:Dave\, Hannah\, and Chazz\nlive acoustic music  at Cape Fox
X-WR-RELCALID:44622e3ba2e493e7a769023612a9fed2
X-WR-TIMEZONE:America/Anchorage
BEGIN:VTIMEZONE
TZID:America/Anchorage
BEGIN:STANDARD
TZNAME:AKST
DTSTART:20211107T020000
TZOFFSETFROM:-0800
TZOFFSETTO:-0900
RDATE:20221106T020000
RDATE:20231105T020000
END:STANDARD
BEGIN:DAYLIGHT
TZNAME:AKDT
DTSTART:20220313T020000
TZOFFSETFROM:-0900
TZOFFSETTO:-0800
RDATE:20230312T020000
END:DAYLIGHT
END:VTIMEZONE
BEGIN:VEVENT
UID:fa2adc83-c623-4b03-997a-d7d4c5c13d92
DTSTAMP:20260420T105357Z
DESCRIPTION:Dave\, Hannah\, and Chazz\nlive acoustic music  at Cape Fox
DTSTART;TZID=America/Anchorage:20220526T170000
DTEND;TZID=America/Anchorage:20220526T203000
LOCATION:Cape Fox
SUMMARY:Dave\, Hannah\, and Chazz
END:VEVENT
END:VCALENDAR
