BEGIN:VCALENDAR
VERSION:2.0
PRODID:-//www.ketchikanarts.org//NONSGML kigkonsult.se iCalcreator 2.30.10/
 /
CALSCALE:GREGORIAN
METHOD:PUBLISH
UID:2e37135a-1222-4252-9323-7627ac79c23f
X-WR-CALDESC:A Fun youth production put on by the Kayhi Drama Kings.\nKayhi
  Auditorium\nTickets are $15 each or  Family of 4 for $50
X-WR-RELCALID:d8f1eb31045bf76ff0d0cd9ea6eba2f2
X-WR-TIMEZONE:America/Anchorage
BEGIN:VTIMEZONE
TZID:America/Anchorage
BEGIN:STANDARD
TZNAME:AKST
DTSTART:20211107T020000
TZOFFSETFROM:-0800
TZOFFSETTO:-0900
RDATE:20221106T020000
RDATE:20231105T020000
END:STANDARD
BEGIN:DAYLIGHT
TZNAME:AKDT
DTSTART:20220313T020000
TZOFFSETFROM:-0900
TZOFFSETTO:-0800
RDATE:20230312T020000
END:DAYLIGHT
END:VTIMEZONE
BEGIN:VEVENT
UID:d4db9e05-e9cb-4e99-b8c5-8324d2eabaae
DTSTAMP:20260420T105009Z
DESCRIPTION:A Fun youth production put on by the Kayhi Drama Kings.\nKayhi 
 Auditorium\nTickets are $15 each or  Family of 4 for $50
DTSTART;TZID=America/Anchorage:20220521T193000
DTEND;TZID=America/Anchorage:20220521T220000
LOCATION:KayHi Auditorium
SUMMARY:SpongeBob Square Pants
END:VEVENT
END:VCALENDAR
