BEGIN:VCALENDAR
VERSION:2.0
PRODID:-//www.ketchikanarts.org//NONSGML kigkonsult.se iCalcreator 2.30.10/
 /
CALSCALE:GREGORIAN
METHOD:PUBLISH
UID:25ec9582-9109-40cd-8cab-69e1de698f18
X-WR-CALDESC:A Fun youth production put on by the Kayhi Drama Kings.\nKayhi
  Auditorium\nTickets are $15 each or  Family of 4 for $50
X-WR-RELCALID:a8916703c1bbdc1a56449443ec986739
X-WR-TIMEZONE:America/Anchorage
BEGIN:VTIMEZONE
TZID:America/Anchorage
BEGIN:STANDARD
TZNAME:AKST
DTSTART:20211107T020000
TZOFFSETFROM:-0800
TZOFFSETTO:-0900
RDATE:20221106T020000
RDATE:20231105T020000
END:STANDARD
BEGIN:DAYLIGHT
TZNAME:AKDT
DTSTART:20220313T020000
TZOFFSETFROM:-0900
TZOFFSETTO:-0800
RDATE:20230312T020000
END:DAYLIGHT
END:VTIMEZONE
BEGIN:VEVENT
UID:e5855ea8-2eb7-4348-9458-5033a54c14f0
DTSTAMP:20260420T105009Z
DESCRIPTION:A Fun youth production put on by the Kayhi Drama Kings.\nKayhi 
 Auditorium\nTickets are $15 each or  Family of 4 for $50
DTSTART;TZID=America/Anchorage:20220521T140000
DTEND;TZID=America/Anchorage:20220521T163000
LOCATION:KayHi Auditorium
SUMMARY:SpongeBob Square Pants
END:VEVENT
END:VCALENDAR
